BEGIN:VCALENDAR
VERSION:2.0
PRODID:-//Love Seatown - ECPv6.15.11//NONSGML v1.0//EN
CALSCALE:GREGORIAN
METHOD:PUBLISH
X-ORIGINAL-URL:https://loveseatown.com
X-WR-CALDESC:Events for Love Seatown
REFRESH-INTERVAL;VALUE=DURATION:PT1H
X-Robots-Tag:noindex
X-PUBLISHED-TTL:PT1H
BEGIN:VTIMEZONE
TZID:America/Los_Angeles
BEGIN:DAYLIGHT
TZOFFSETFROM:-0800
TZOFFSETTO:-0700
TZNAME:PDT
DTSTART:20230312T100000
END:DAYLIGHT
BEGIN:STANDARD
TZOFFSETFROM:-0700
TZOFFSETTO:-0800
TZNAME:PST
DTSTART:20231105T090000
END:STANDARD
BEGIN:DAYLIGHT
TZOFFSETFROM:-0800
TZOFFSETTO:-0700
TZNAME:PDT
DTSTART:20240310T100000
END:DAYLIGHT
BEGIN:STANDARD
TZOFFSETFROM:-0700
TZOFFSETTO:-0800
TZNAME:PST
DTSTART:20241103T090000
END:STANDARD
BEGIN:DAYLIGHT
TZOFFSETFROM:-0800
TZOFFSETTO:-0700
TZNAME:PDT
DTSTART:20250309T100000
END:DAYLIGHT
BEGIN:STANDARD
TZOFFSETFROM:-0700
TZOFFSETTO:-0800
TZNAME:PST
DTSTART:20251102T090000
END:STANDARD
BEGIN:DAYLIGHT
TZOFFSETFROM:-0800
TZOFFSETTO:-0700
TZNAME:PDT
DTSTART:20260308T100000
END:DAYLIGHT
BEGIN:STANDARD
TZOFFSETFROM:-0700
TZOFFSETTO:-0800
TZNAME:PST
DTSTART:20261101T090000
END:STANDARD
BEGIN:DAYLIGHT
TZOFFSETFROM:-0800
TZOFFSETTO:-0700
TZNAME:PDT
DTSTART:20270314T100000
END:DAYLIGHT
BEGIN:STANDARD
TZOFFSETFROM:-0700
TZOFFSETTO:-0800
TZNAME:PST
DTSTART:20271107T090000
END:STANDARD
END:VTIMEZONE
BEGIN:VEVENT
DTSTART;TZID=America/Los_Angeles:20260416T160000
DTEND;TZID=America/Los_Angeles:20260416T180000
DTSTAMP:20260419T052245
CREATED:20250213T174428Z
LAST-MODIFIED:20260310T174916Z
UID:10016017-1776355200-1776362400@loveseatown.com
SUMMARY:Live Music at The Triple Door
DESCRIPTION:Enjoy happy hour and live music from a cast of rotating musicians in The Triple Door lounge\, every Tuesday-Thursday from 4-6 p.m. No cover required! View the full schedule at The Triple Door.
URL:https://loveseatown.com/event/live-music-at-the-triple-door/2026-04-16/
LOCATION:The Triple Door\, 216 Union St.\, Seattle\, WA\, 98101
CATEGORIES:Performing Arts
ATTACH;FMTTYPE=image/jpeg:/app/uploads/2025/02/events-live-music-triple-door.jpg
END:VEVENT
BEGIN:VEVENT
DTSTART;VALUE=DATE:20251016
DTEND;VALUE=DATE:20251102
DTSTAMP:20260419T052245
CREATED:20241204T172028Z
LAST-MODIFIED:20241211T224024Z
UID:10010943-1760572800-1762041599@loveseatown.com
SUMMARY:Can Can Presents: This is Halloween at The Triple Door
DESCRIPTION:This Is Halloween returns with its signature spooky charm\, combining burlesque\, live orchestral music and jaw-dropping visual installations! This Burton-esque extravaganza brings a fresh twist on a Halloween classic\, offering a world of magic\, mischief\, and the eerie enchantment that has made this show a beloved staple for 17 years. \nPerformances will run Oct. 16-Nov. 1. Stay tuned for tickets and details at Can Can!
URL:https://loveseatown.com/event/can-can-presents-this-is-halloween-at-the-triple-door/
LOCATION:The Triple Door\, 216 Union St.\, Seattle\, WA\, 98101
CATEGORIES:Performing Arts
ATTACH;FMTTYPE=image/jpeg:/app/uploads/2024/12/events-can-can-halloween.jpg
END:VEVENT
BEGIN:VEVENT
DTSTART;VALUE=DATE:20250327
DTEND;VALUE=DATE:20250330
DTSTAMP:20260419T052245
CREATED:20250213T173514Z
LAST-MODIFIED:20250213T173514Z
UID:10012303-1743033600-1743292799@loveseatown.com
SUMMARY:Misfit Cabaret Presents Pop! at The Triple Door
DESCRIPTION:Kat Robichaud’s Misfit Cabaret Presents POP– a night of decadence\, bawdiness\, and damsels (not) in distress. Come experience the fantastical variety show everyone is talking about! \nHas life in the gray world got you down? Misfit Cabaret is here to dance the dreariness away with a bubble-wrapped brand new show\, POP! Join in for a sugar-fueled celebration featuring a pink paradise of palpable performers as they bounce and bop to your favorite pop spanning the past bajillion decades! Tickets are now available at The Triple Door.
URL:https://loveseatown.com/event/misfit-cabaret-presents-pop-at-the-triple-door/
LOCATION:The Triple Door\, 216 Union St.\, Seattle\, WA\, 98101
CATEGORIES:Performing Arts
ATTACH;FMTTYPE=image/jpeg:/app/uploads/2025/02/events-misfits-cabaret-pop.jpg
END:VEVENT
BEGIN:VEVENT
DTSTART;VALUE=DATE:20250126
DTEND;VALUE=DATE:20250127
DTSTAMP:20260419T052245
CREATED:20241110T022758Z
LAST-MODIFIED:20241203T192723Z
UID:10010647-1737849600-1737935999@loveseatown.com
SUMMARY:Bohemia at The Triple Door
DESCRIPTION:The award winning smash hit Bohemia from critically acclaimed artists Opal Peachey and Mark Siano returns to the Triple Door this January. Bohemia is a freewheeling cabaret about love\, classical music\, art nouveau\, green fairies and absinthe. Set in 1890s Prague\, Bohemia combines the music of Dvořák and Chopin\, with art by Alphonse Mucha. Historic artists interweave with beautiful green fairies\, aerial numbers\, dance\, burlesque\, classical piano battles\, comedy\, and original songs. \nGet more details and purchase tickets at Triple Door.
URL:https://loveseatown.com/event/bohemia-at-the-triple-door/2025-01-26/
LOCATION:The Triple Door\, 216 Union St.\, Seattle\, WA\, 98101
CATEGORIES:Performing Arts
ATTACH;FMTTYPE=image/jpeg:/app/uploads/2023/01/maxresdefault.jpg
END:VEVENT
BEGIN:VEVENT
DTSTART;VALUE=DATE:20241229
DTEND;VALUE=DATE:20241230
DTSTAMP:20260419T052245
CREATED:20241110T022721Z
LAST-MODIFIED:20241204T170411Z
UID:10009930-1735430400-1735516799@loveseatown.com
SUMMARY:Land of the Sweets: The Burlesque Nutcracker
DESCRIPTION:Swing in the season with what KING 5 called “the best burlesque in western Washington!” Land Of The Sweets has delighted thousands of holiday revelers since 2006\, and is Seattle’s most glamorous holiday tradition. Featuring opulent costumes\, sultry musical arrangements and countless other surprises\, Land of the Sweets will enchant you like never before. Tickets are on sale now!
URL:https://loveseatown.com/event/land-of-the-sweets-the-burlesque-nutcracker/2024-12-29/
LOCATION:The Triple Door\, 216 Union St.\, Seattle\, WA\, 98101
CATEGORIES:Holidays,Performing Arts
ATTACH;FMTTYPE=image/jpeg:/app/uploads/2022/10/events-land-of-sweets-burlesque-nutcracker.jpg
END:VEVENT
END:VCALENDAR